BEGIN:VCALENDAR
VERSION:2.0
PRODID:https://kyudotermine.de/
BEGIN:VEVENT
UID:664@kyuvb.de
SUMMARY:Heki Sommer Seminar
DESCRIPTION:Heki Seminar mit Ken Kurosu
CLASS:PUBLIC
DTSTART;VALUE=DATE:20220808
DTEND;VALUE=DATE:20220813
DTSTAMP:20260420T091903Z
LOCATION:Rottweil
URL:https://kyudotermine.de/detail.php?id=664
ATTACH;FMTTYPE=application/pdf:https://kyuvb.de/../media/events/664/Ausschreibung%20Rottweil%20Heki%20Sommer%20Seminare.pdf
ATTACH;FMTTYPE=application/pdf:https://kyuvb.de/../media/events/664/DKyuB%20Seminar-Anmeldung-RW2022.xls
END:VEVENT
END:VCALENDAR
