BEGIN:VCALENDAR
VERSION:2.0
PRODID:https://kyudotermine.de/
BEGIN:VEVENT
UID:666@kyuvb.de
SUMMARY:Offenes Heki-Sommerseminar 1
DESCRIPTION:Sommerseminar mit Tomotsugu GOKA
CLASS:PUBLIC
DTSTART;VALUE=DATE:20220806
DTEND;VALUE=DATE:20220809
DTSTAMP:20260420T091718Z
LOCATION:Frankfurt
URL:https://kyudotermine.de/detail.php?id=666
ATTACH;FMTTYPE=application/pdf:https://kyuvb.de/../media/events/666/Ausschreibung_Frankfurt_SoSe22.pdf
END:VEVENT
END:VCALENDAR
