BEGIN:VCALENDAR
VERSION:2.0
PRODID:https://kyudotermine.de/
BEGIN:VEVENT
UID:67@kyuvb.de
SUMMARY:Vereinsvertreter- und Trainertreffen
DESCRIPTION:Treffen aller bayrischen Vereinsvertreter und Trainer.
CLASS:PUBLIC
DTSTART;VALUE=DATE:20121007
DTEND;VALUE=DATE:20121008
DTSTAMP:20260419T221043Z
LOCATION:Neuburg
URL:https://kyudotermine.de/detail.php?id=67
END:VEVENT
END:VCALENDAR
