BEGIN:VCALENDAR
VERSION:2.0
PRODID:https://kyudotermine.de/
BEGIN:VEVENT
UID:670@kyuvb.de
SUMMARY:9. Wolfsburger Enteki Taikai
DESCRIPTION:Offener Enteki-Wettkampf
CLASS:PUBLIC
DTSTART;VALUE=DATE:20220717
DTEND;VALUE=DATE:20220718
DTSTAMP:20260420T091758Z
LOCATION:Wolfsburg
URL:https://kyudotermine.de/detail.php?id=670
ATTACH;FMTTYPE=application/pdf:https://kyuvb.de/../media/events/670/Ausschreibung%209.Enteki%20Taikai%20Wolfsburg%2017.%20Juli%202022.pdf
END:VEVENT
END:VCALENDAR
