BEGIN:VCALENDAR
VERSION:2.0
PRODID:https://kyudotermine.de/
BEGIN:VEVENT
UID:68@kyuvb.de
SUMMARY:Landeslehrgang
DESCRIPTION:Landeslehrgang mit Prüfung bis 1. Kyu
CLASS:PUBLIC
DTSTART;VALUE=DATE:20121006
DTEND;VALUE=DATE:20121008
DTSTAMP:20260419T202634Z
LOCATION:Göttingen
URL:https://kyudotermine.de/detail.php?id=68
ATTACH;FMTTYPE=application/pdf:https://kyuvb.de/../media/events/68/LLNiedersachsen2012.pdf
END:VEVENT
END:VCALENDAR
