BEGIN:VCALENDAR
VERSION:2.0
PRODID:https://kyudotermine.de/
BEGIN:VEVENT
UID:69@kyuvb.de
SUMMARY:5 Tage in Wolfsburg
DESCRIPTION:Gemeinsames 5-tägiges Kyudo-Training in Wolfsburg.
CLASS:PUBLIC
DTSTART;VALUE=DATE:20121027
DTEND;VALUE=DATE:20121101
DTSTAMP:20260419T202755Z
LOCATION:Wolfsburg
URL:https://kyudotermine.de/detail.php?id=69
ATTACH;FMTTYPE=application/pdf:https://kyuvb.de/../media/events/69/Einladung%205%20Tage%20in%20Wolfsburg_final.pdf
END:VEVENT
END:VCALENDAR
