BEGIN:VCALENDAR
VERSION:2.0
PRODID:https://kyudotermine.de/
BEGIN:VEVENT
UID:791@kyuvb.de
SUMMARY:Offenes Sonntagstraining (9-13 Uhr)
DESCRIPTION:Training in Erlangen von 9:00 bis 13:00 (15 min. vor Beginn aufbauen. Gäste aus anderen Vereinen willkommen.)
CLASS:PUBLIC
DTSTART;VALUE=DATE:20240303
DTEND;VALUE=DATE:20240304
DTSTAMP:20260420T091903Z
LOCATION:Erlangen
URL:https://kyudotermine.de/detail.php?id=791
END:VEVENT
END:VCALENDAR
