BEGIN:VCALENDAR
VERSION:2.0
PRODID:https://kyudotermine.de/
BEGIN:VEVENT
UID:82@kyuvb.de
SUMMARY:Prüfungslehrgang
DESCRIPTION:Prüfungslehrgang mit Prüfungsmöglichkeit bis 1. Kyu.
CLASS:PUBLIC
DTSTART;VALUE=DATE:20130119
DTEND;VALUE=DATE:20130121
DTSTAMP:20260419T185424Z
LOCATION:Erlangen
URL:https://kyudotermine.de/detail.php?id=82
ATTACH;FMTTYPE=application/pdf:https://kyuvb.de/../media/events/82/Einladung_zum_LL_am_19.-20.01.2013.pdf
END:VEVENT
END:VCALENDAR
