BEGIN:VCALENDAR
VERSION:2.0
PRODID:https://kyudotermine.de/
BEGIN:VEVENT
UID:83@kyuvb.de
SUMMARY:Prüfungslehrgang
DESCRIPTION:Landeslehrgang zur Prüfungsvorbereitung mit Prüfung bis 1. Kyu.
CLASS:PUBLIC
DTSTART;VALUE=DATE:20130420
DTEND;VALUE=DATE:20130422
DTSTAMP:20260419T185315Z
LOCATION:Wardenburg
URL:https://kyudotermine.de/detail.php?id=83
ATTACH;FMTTYPE=application/pdf:https://kyuvb.de/../media/events/83/Lehrgang%2013.pdf
END:VEVENT
END:VCALENDAR
