BEGIN:VCALENDAR
VERSION:2.0
PRODID:https://kyudotermine.de/
BEGIN:VEVENT
UID:84@kyuvb.de
SUMMARY:Prüfungslehrgang
DESCRIPTION:Landeslehrgang mit Prüfung zum 4./5. Kyu.
CLASS:PUBLIC
DTSTART;VALUE=DATE:20130216
DTEND;VALUE=DATE:20130217
DTSTAMP:20260419T190026Z
LOCATION:Weilheim
URL:https://kyudotermine.de/detail.php?id=84
ATTACH;FMTTYPE=application/pdf:https://kyuvb.de/../media/events/84/Landeslehrgang_Weilheim.pdf
END:VEVENT
END:VCALENDAR
