BEGIN:VCALENDAR
VERSION:2.0
PRODID:https://kyudotermine.de/
BEGIN:VEVENT
UID:85@kyuvb.de
SUMMARY:Heki-Frühjahrsseminar
DESCRIPTION:Heki-Seminar mit Kurosu Sensei und Manfred Speidel\, Themenschwerpunkt Nobiai
CLASS:PUBLIC
DTSTART;VALUE=DATE:20130316
DTEND;VALUE=DATE:20130318
DTSTAMP:20260419T185315Z
LOCATION:Aachen
URL:https://kyudotermine.de/detail.php?id=85
ATTACH;FMTTYPE=application/pdf:https://kyuvb.de/../media/events/85/Heki-Fr%C3%BChjahrsseminar2013.pdf
END:VEVENT
END:VCALENDAR
