BEGIN:VCALENDAR
VERSION:2.0
PRODID:https://kyudotermine.de/
BEGIN:VEVENT
UID:869@kyuvb.de
SUMMARY:Fortbildung C2 für Trainer CB/CL
DESCRIPTION:Fortbildung für Trainer
CLASS:PUBLIC
DTSTART;VALUE=DATE:20240907
DTEND;VALUE=DATE:20240909
DTSTAMP:20260420T091821Z
LOCATION:Frankfurt am Main
URL:https://kyudotermine.de/detail.php?id=869
ATTACH;FMTTYPE=application/pdf:https://kyuvb.de/../media/events/869/Trainer%20Fortbildung%20C2%202024%20Frankfurt%20-%20neu.pdf
END:VEVENT
END:VCALENDAR
