BEGIN:VCALENDAR
VERSION:2.0
PRODID:https://kyudotermine.de/
BEGIN:VEVENT
UID:87@kyuvb.de
SUMMARY:Landeslehrgang (vorauss. Termin)
DESCRIPTION:Ausschreibung folgt in Kürze
CLASS:PUBLIC
DTSTART;VALUE=DATE:20130504
DTEND;VALUE=DATE:20130506
DTSTAMP:20260419T185334Z
LOCATION:Germaringen
URL:https://kyudotermine.de/detail.php?id=87
END:VEVENT
END:VCALENDAR
