BEGIN:VCALENDAR
VERSION:2.0
PRODID:https://kyudotermine.de/
BEGIN:VEVENT
UID:89@kyuvb.de
SUMMARY:Bayrische Meisterschaften
DESCRIPTION:Bayrische Einzel- und Mannschaftsmeisterschaften 2013
CLASS:PUBLIC
DTSTART;VALUE=DATE:20130413
DTEND;VALUE=DATE:20130414
DTSTAMP:20260419T190000Z
LOCATION:Erlangen
URL:https://kyudotermine.de/detail.php?id=89
ATTACH;FMTTYPE=application/pdf:https://kyuvb.de/../media/events/89/Ausschreibung_Bay_Meist_2013.pdf
END:VEVENT
END:VCALENDAR
