BEGIN:VCALENDAR
VERSION:2.0
PRODID:https://kyudotermine.de/
BEGIN:VEVENT
UID:90@kyuvb.de
SUMMARY:Bundeslehrgang Heki-Technik
DESCRIPTION:Bundeslehrgang mit Feliks Hoff\, vorrangig für Trainer
CLASS:PUBLIC
DTSTART;VALUE=DATE:20130420
DTEND;VALUE=DATE:20130422
DTSTAMP:20260419T202634Z
LOCATION:Hamburg
URL:https://kyudotermine.de/detail.php?id=90
ATTACH;FMTTYPE=application/pdf:https://kyuvb.de/../media/events/90/Ausschreibung_Heki-Technik_20.4.13.pdf
END:VEVENT
END:VCALENDAR
