BEGIN:VCALENDAR
VERSION:2.0
PRODID:https://kyudotermine.de/
BEGIN:VEVENT
UID:91@kyuvb.de
SUMMARY:Seminar Heki Technik und Prüfung.
DESCRIPTION:Seminar mit Prüfungsmöglichkeit bis 1. Kyu.
CLASS:PUBLIC
DTSTART;VALUE=DATE:20130504
DTEND;VALUE=DATE:20130506
DTSTAMP:20260419T203233Z
LOCATION:Dresden
URL:https://kyudotermine.de/detail.php?id=91
ATTACH;FMTTYPE=application/pdf:https://kyuvb.de/../media/events/91/Seminar%20Dresden%20-%20Pr%C3%BCfung_Technik.pdf
END:VEVENT
END:VCALENDAR
