BEGIN:VCALENDAR
VERSION:2.0
PRODID:https://kyudotermine.de/
BEGIN:VEVENT
UID:92@kyuvb.de
SUMMARY:Mitgliederversammlung KyuVB
DESCRIPTION:Einladung folgt demnächst.
CLASS:PUBLIC
DTSTART;VALUE=DATE:20130714
DTEND;VALUE=DATE:20130715
DTSTAMP:20260419T185418Z
LOCATION:Neuburg/Donau
URL:https://kyudotermine.de/detail.php?id=92
END:VEVENT
END:VCALENDAR
