BEGIN:VCALENDAR
VERSION:2.0
PRODID:https://kyudotermine.de/
BEGIN:VEVENT
UID:94@kyuvb.de
SUMMARY:5. TiB Taikai
DESCRIPTION:Wettkampf mit verschiedenen Matogrößen.
CLASS:PUBLIC
DTSTART;VALUE=DATE:20130629
DTEND;VALUE=DATE:20130630
DTSTAMP:20260419T190119Z
LOCATION:Berlin
URL:https://kyudotermine.de/detail.php?id=94
ATTACH;FMTTYPE=application/pdf:https://kyuvb.de/../media/events/94/Ausschreibung_TiB_Taikai_2013.pdf
END:VEVENT
END:VCALENDAR
