BEGIN:VCALENDAR
VERSION:2.0
PRODID:https://kyudotermine.de/
BEGIN:VEVENT
UID:95@kyuvb.de
SUMMARY:Deutsche Meisterschaften
DESCRIPTION:27. Deutsche Sempai-Meisterschaft\, 6. Deutsche Einzelmeisterschaft für Kyu-Grade und 36. Deutsche Einzel- und Mannschaftsmeisterschaft.
CLASS:PUBLIC
DTSTART;VALUE=DATE:20130608
DTEND;VALUE=DATE:20130610
DTSTAMP:20260419T185334Z
LOCATION:Wiesbaden
URL:https://kyudotermine.de/detail.php?id=95
ATTACH;FMTTYPE=application/pdf:https://kyuvb.de/../media/events/95/Ausschreibung%20DM%202013.pdf
END:VEVENT
END:VCALENDAR
